BEGIN:VCALENDAR
VERSION:2.0
PRODID:-// - ECPv6.15.16//NONSGML v1.0//EN
CALSCALE:GREGORIAN
METHOD:PUBLISH
X-ORIGINAL-URL:https://lasfs.org
X-WR-CALDESC:Events for 
REFRESH-INTERVAL;VALUE=DURATION:PT1H
X-Robots-Tag:noindex
X-PUBLISHED-TTL:PT1H
BEGIN:VTIMEZONE
TZID:America/Los_Angeles
BEGIN:DAYLIGHT
TZOFFSETFROM:-0800
TZOFFSETTO:-0700
TZNAME:PDT
DTSTART:20250309T100000
END:DAYLIGHT
BEGIN:STANDARD
TZOFFSETFROM:-0700
TZOFFSETTO:-0800
TZNAME:PST
DTSTART:20251102T090000
END:STANDARD
BEGIN:DAYLIGHT
TZOFFSETFROM:-0800
TZOFFSETTO:-0700
TZNAME:PDT
DTSTART:20260308T100000
END:DAYLIGHT
BEGIN:STANDARD
TZOFFSETFROM:-0700
TZOFFSETTO:-0800
TZNAME:PST
DTSTART:20261101T090000
END:STANDARD
BEGIN:DAYLIGHT
TZOFFSETFROM:-0800
TZOFFSETTO:-0700
TZNAME:PDT
DTSTART:20270314T100000
END:DAYLIGHT
BEGIN:STANDARD
TZOFFSETFROM:-0700
TZOFFSETTO:-0800
TZNAME:PST
DTSTART:20271107T090000
END:STANDARD
END:VTIMEZONE
BEGIN:VEVENT
DTSTART;TZID=America/Los_Angeles:20260322T130000
DTEND;TZID=America/Los_Angeles:20260322T190000
DTSTAMP:20260419T234840
CREATED:20260212T004432Z
LAST-MODIFIED:20260310T072721Z
UID:7177-1774184400-1774206000@lasfs.org
SUMMARY:Housewarming at the New Clubhouse
DESCRIPTION:There will be light refreshments. We also encourage attendees to enjoy one of the many restaurants nearby. \nMost of the day will be for exploring the building and library\, and socializing\, but we have three items: \n2 pm Panel: LASFS and its influence; Craig Miller\, Gene Turnbow\, and Larry Niven discuss how involvement with the club helped their careers. \n3:30 pm Auction of quality items to benefit the club. \n5 pm Panel: History of LASFS and its clubhouses; with Matthew B. Tepper\, Mike Glyer\, and Cathy Johnson. \nWe hope both club members who can’t get out on Thursdays and people just learning of the club will drop by. \nAccessibility: There is a ramp in the back of our building facing the alley. \nParking is available on the street\, and the parking lot behind the stores one short block North of us; stores like Kingdom Sewing & Vacuum and The Dog Haus.
URL:https://lasfs.org/event/housewarming-at-the-new-clubhouse/
LOCATION:LASFS Clubhouse\, 8819 Reseda Blvd.\, Northridge\, CA\, 91324\, United States
END:VEVENT
END:VCALENDAR