BEGIN:VCALENDAR
VERSION:2.0
PRODID:-// - ECPv6.15.16//NONSGML v1.0//EN
CALSCALE:GREGORIAN
METHOD:PUBLISH
X-ORIGINAL-URL:https://lasfs.org
X-WR-CALDESC:Events for 
REFRESH-INTERVAL;VALUE=DURATION:PT1H
X-Robots-Tag:noindex
X-PUBLISHED-TTL:PT1H
BEGIN:VTIMEZONE
TZID:America/Los_Angeles
BEGIN:DAYLIGHT
TZOFFSETFROM:-0800
TZOFFSETTO:-0700
TZNAME:PDT
DTSTART:20250309T100000
END:DAYLIGHT
BEGIN:STANDARD
TZOFFSETFROM:-0700
TZOFFSETTO:-0800
TZNAME:PST
DTSTART:20251102T090000
END:STANDARD
BEGIN:DAYLIGHT
TZOFFSETFROM:-0800
TZOFFSETTO:-0700
TZNAME:PDT
DTSTART:20260308T100000
END:DAYLIGHT
BEGIN:STANDARD
TZOFFSETFROM:-0700
TZOFFSETTO:-0800
TZNAME:PST
DTSTART:20261101T090000
END:STANDARD
BEGIN:DAYLIGHT
TZOFFSETFROM:-0800
TZOFFSETTO:-0700
TZNAME:PDT
DTSTART:20270314T100000
END:DAYLIGHT
BEGIN:STANDARD
TZOFFSETFROM:-0700
TZOFFSETTO:-0800
TZNAME:PST
DTSTART:20271107T090000
END:STANDARD
END:VTIMEZONE
BEGIN:VEVENT
DTSTART;TZID=America/Los_Angeles:20260212T190000
DTEND;TZID=America/Los_Angeles:20260212T220000
DTSTAMP:20260420T010839
CREATED:20260211T042305Z
LAST-MODIFIED:20260218T000941Z
UID:7142-1770922800-1770933600@lasfs.org
SUMMARY:LASFS Meeting on Zoom and at the New Clubhouse!
DESCRIPTION:Auction. \nClubhouse opens at 7:00 pm. Meeting starts at 8:00 pm.
URL:https://lasfs.org/event/lasfs-meeting-at-the-new-clubhouse/
LOCATION:LASFS – in-person (and online) meeting\, 8819 Reseda Blvd.\, Northridge\, CA\, 91324\, United States
END:VEVENT
BEGIN:VEVENT
DTSTART;TZID=America/Los_Angeles:20260219T190000
DTEND;TZID=America/Los_Angeles:20260219T220000
DTSTAMP:20260420T010839
CREATED:20260211T042511Z
LAST-MODIFIED:20260219T000516Z
UID:7145-1771527600-1771538400@lasfs.org
SUMMARY:LASFS Meeting on Zoom and at the New Clubhouse
DESCRIPTION:Clubhouse opens at 7:00 pm. Meeting starts at 8:00 pm. \nParking is available on the street\, and the parking lot behind the stores one short block North of us; stores like Kingdom Sewing & Vacuum and The Dog Haus. There is a ramp in the back of our building facing the alley.
URL:https://lasfs.org/event/lasfs-meeting-on-zoom-and-at-the-new-clubhouse/
LOCATION:LASFS – in-person (and online) meeting\, 8819 Reseda Blvd.\, Northridge\, CA\, 91324\, United States
END:VEVENT
BEGIN:VEVENT
DTSTART;TZID=America/Los_Angeles:20260226T190000
DTEND;TZID=America/Los_Angeles:20260226T220000
DTSTAMP:20260420T010839
CREATED:20260211T042611Z
LAST-MODIFIED:20260219T000509Z
UID:7146-1772132400-1772143200@lasfs.org
SUMMARY:LASFS Meeting on Zoom and at the New Clubhouse
DESCRIPTION:Gene Turnbough reads to the club members. \nClubhouse opens at 7:00 pm. Meeting starts at 8:00 pm. \nParking is available on the street\, and the parking lot behind the stores one short block North of us; stores like Kingdom Sewing & Vacuum and The Dog Haus. There is a ramp in the back of our building facing the alley.
URL:https://lasfs.org/event/lasfs-meeting-on-zoom-and-at-the-new-clubhouse-2/
LOCATION:LASFS – in-person (and online) meeting\, 8819 Reseda Blvd.\, Northridge\, CA\, 91324\, United States
END:VEVENT
BEGIN:VEVENT
DTSTART;TZID=America/Los_Angeles:20260305T190000
DTEND;TZID=America/Los_Angeles:20260305T220000
DTSTAMP:20260420T010839
CREATED:20260212T004100Z
LAST-MODIFIED:20260219T000458Z
UID:7174-1772737200-1772748000@lasfs.org
SUMMARY:LASFS Meeting on Zoom and at the Clubhouse
DESCRIPTION:Clubhouse opens at 7:00 pm. Meeting starts at 8:00 pm. \nParking is available on the street\, and the parking lot behind the stores one short block North of us; stores like Kingdom Sewing & Vacuum and The Dog Haus. There is a ramp in the back of our building facing the alley.
URL:https://lasfs.org/event/lasfs-meeting-on-zoom-and-at-the-clubhouse/
LOCATION:LASFS – in-person (and online) meeting\, 8819 Reseda Blvd.\, Northridge\, CA\, 91324\, United States
END:VEVENT
BEGIN:VEVENT
DTSTART;TZID=America/Los_Angeles:20260312T190000
DTEND;TZID=America/Los_Angeles:20260312T220000
DTSTAMP:20260420T010839
CREATED:20260212T004202Z
LAST-MODIFIED:20260219T000448Z
UID:7175-1773342000-1773352800@lasfs.org
SUMMARY:LASFS Meeting on Zoom and at the Clubhouse
DESCRIPTION:Craig Miller reads to the club members. \nClubhouse opens at 7:00 pm. Meeting starts at 8:00 pm. \nParking is available on the street\, and the parking lot behind the stores one short block North of us; stores like Kingdom Sewing & Vacuum and The Dog Haus. There is a ramp in the back of our building facing the alley.
URL:https://lasfs.org/event/lasfs-meeting-on-zoom-and-at-the-clubhouse-2/
LOCATION:LASFS – in-person (and online) meeting\, 8819 Reseda Blvd.\, Northridge\, CA\, 91324\, United States
END:VEVENT
BEGIN:VEVENT
DTSTART;VALUE=DATE:20260315
DTEND;VALUE=DATE:20260316
DTSTAMP:20260420T010839
CREATED:20260217T220931Z
LAST-MODIFIED:20260217T220952Z
UID:7210-1773532800-1773619199@lasfs.org
SUMMARY:Paperback show - Glendale Civic Auditorium (not at the clubhouse)
DESCRIPTION:
URL:https://lasfs.org/event/paperback-show-glendale-civic-auditorium-not-at-the-clubhouse/
LOCATION:CA
END:VEVENT
BEGIN:VEVENT
DTSTART;TZID=America/Los_Angeles:20260319T190000
DTEND;TZID=America/Los_Angeles:20260319T220000
DTSTAMP:20260420T010839
CREATED:20260212T004314Z
LAST-MODIFIED:20260219T000337Z
UID:7176-1773946800-1773957600@lasfs.org
SUMMARY:Grand Opening of the New Clubhouse
DESCRIPTION:Clubhouse opens at 7:00 pm. Meeting starts at 8:00 pm. \nParking is available on the street\, and the parking lot behind the stores one short block North of us; stores like Kingdom Sewing & Vacuum and The Dog Haus. There is a ramp in the back of our building facing the alley.
URL:https://lasfs.org/event/grand-opening-of-the-new-clubhouse/
LOCATION:LASFS – in-person (and online) meeting\, 8819 Reseda Blvd.\, Northridge\, CA\, 91324\, United States
END:VEVENT
BEGIN:VEVENT
DTSTART;TZID=America/Los_Angeles:20260322T130000
DTEND;TZID=America/Los_Angeles:20260322T190000
DTSTAMP:20260420T010839
CREATED:20260212T004432Z
LAST-MODIFIED:20260310T072721Z
UID:7177-1774184400-1774206000@lasfs.org
SUMMARY:Housewarming at the New Clubhouse
DESCRIPTION:There will be light refreshments. We also encourage attendees to enjoy one of the many restaurants nearby. \nMost of the day will be for exploring the building and library\, and socializing\, but we have three items: \n2 pm Panel: LASFS and its influence; Craig Miller\, Gene Turnbow\, and Larry Niven discuss how involvement with the club helped their careers. \n3:30 pm Auction of quality items to benefit the club. \n5 pm Panel: History of LASFS and its clubhouses; with Matthew B. Tepper\, Mike Glyer\, and Cathy Johnson. \nWe hope both club members who can’t get out on Thursdays and people just learning of the club will drop by. \nAccessibility: There is a ramp in the back of our building facing the alley. \nParking is available on the street\, and the parking lot behind the stores one short block North of us; stores like Kingdom Sewing & Vacuum and The Dog Haus.
URL:https://lasfs.org/event/housewarming-at-the-new-clubhouse/
LOCATION:LASFS Clubhouse\, 8819 Reseda Blvd.\, Northridge\, CA\, 91324\, United States
END:VEVENT
BEGIN:VEVENT
DTSTART;TZID=America/Los_Angeles:20260326T190000
DTEND;TZID=America/Los_Angeles:20260326T220000
DTSTAMP:20260420T010839
CREATED:20260212T004515Z
LAST-MODIFIED:20260404T032714Z
UID:7178-1774551600-1774562400@lasfs.org
SUMMARY:LASFS Meeting on Zoom and at the Clubhouse - Discussion on Proposed Bylaw Changes
DESCRIPTION:Discussion on Proposed Bylaw Changes. \nClubhouse opens at 7:00 pm. Meeting starts at 8:00 pm. \nParking is available on the street\, and the parking lot behind the stores one short block North of us; stores like Kingdom Sewing & Vacuum and The Dog Haus. There is a ramp in the back of our building facing the alley.
URL:https://lasfs.org/event/lasfs-meeting-on-zoom-and-at-the-clubhouse-3/
LOCATION:LASFS – in-person (and online) meeting\, 8819 Reseda Blvd.\, Northridge\, CA\, 91324\, United States
END:VEVENT
BEGIN:VEVENT
DTSTART;TZID=America/Los_Angeles:20260402T190000
DTEND;TZID=America/Los_Angeles:20260402T220000
DTSTAMP:20260420T010839
CREATED:20260217T221352Z
LAST-MODIFIED:20260220T213232Z
UID:7212-1775156400-1775167200@lasfs.org
SUMMARY:LASFS Meeting on Zoom and at the Clubhouse - Vote on Bylaw Changes
DESCRIPTION:Vote on Bylaw changes. \nClubhouse opens at 7:00 pm. Meeting starts at 8:00 pm. \nParking is available on the street\, and the parking lot behind the stores one short block North of us; stores like Kingdom Sewing & Vacuum and The Dog Haus. There is a ramp in the back of our building facing the alley.
URL:https://lasfs.org/event/lasfs-meeting-on-zoom-and-at-the-clubhouse-4/
LOCATION:LASFS – in-person (and online) meeting\, 8819 Reseda Blvd.\, Northridge\, CA\, 91324\, United States
END:VEVENT
BEGIN:VEVENT
DTSTART;TZID=America/Los_Angeles:20260409T190000
DTEND;TZID=America/Los_Angeles:20260409T220000
DTSTAMP:20260420T010839
CREATED:20260217T221549Z
LAST-MODIFIED:20260404T032852Z
UID:7216-1775761200-1775772000@lasfs.org
SUMMARY:LASFS Meeting on Zoom and at the Clubhouse
DESCRIPTION:Clubhouse opens at 7:00 pm. Meeting starts at 8:00 pm. \nParking is available on the street\, and the parking lot behind the stores one short block North of us; stores like Kingdom Sewing & Vacuum and The Dog Haus. There is a ramp in the back of our building facing the alley.
URL:https://lasfs.org/event/loscon-presentation-to-the-membership-vote/
LOCATION:LASFS – in-person (and online) meeting\, 8819 Reseda Blvd.\, Northridge\, CA\, 91324\, United States
END:VEVENT
BEGIN:VEVENT
DTSTART;TZID=America/Los_Angeles:20260412T110000
DTEND;TZID=America/Los_Angeles:20260412T120000
DTSTAMP:20260420T010839
CREATED:20260404T033208Z
LAST-MODIFIED:20260404T050900Z
UID:7400-1775991600-1775995200@lasfs.org
SUMMARY:LASFS Hybrid Board Meeting at the Clubhouse
DESCRIPTION:Parking is available on the street\, and the parking lot behind the stores one short block North of us; stores like Kingdom Sewing & Vacuum and The Dog Haus. There is a ramp in the back of our building facing the alley.
URL:https://lasfs.org/event/lasfs-hybrid-board-meeting-at-the-clubhouse/
LOCATION:LASFS Clubhouse\, 8819 Reseda Blvd.\, Northridge\, CA\, 91324\, United States
END:VEVENT
BEGIN:VEVENT
DTSTART;TZID=America/Los_Angeles:20260412T123000
DTEND;TZID=America/Los_Angeles:20260412T235900
DTSTAMP:20260420T010839
CREATED:20260404T033459Z
LAST-MODIFIED:20260404T050951Z
UID:7402-1775997000-1776038340@lasfs.org
SUMMARY:Second Sunday Open House/Gaming
DESCRIPTION:Parking is available on the street\, and the parking lot behind the stores one short block North of us; stores like Kingdom Sewing & Vacuum and The Dog Haus. There is a ramp in the back of our building facing the alley.
URL:https://lasfs.org/event/second-sunday-open-house-gaming/
LOCATION:LASFS Clubhouse\, 8819 Reseda Blvd.\, Northridge\, CA\, 91324\, United States
END:VEVENT
BEGIN:VEVENT
DTSTART;TZID=America/Los_Angeles:20260416T190000
DTEND;TZID=America/Los_Angeles:20260416T220000
DTSTAMP:20260420T010839
CREATED:20260217T221904Z
LAST-MODIFIED:20260219T000212Z
UID:7223-1776366000-1776376800@lasfs.org
SUMMARY:LASFS Meeting on Zoom and at the Clubhouse - Auction
DESCRIPTION:Clubhouse opens at 7:00 pm. Meeting starts at 8:00 pm. \nParking is available on the street\, and the parking lot behind the stores one short block North of us; stores like Kingdom Sewing & Vacuum and The Dog Haus. There is a ramp in the back of our building facing the alley.
URL:https://lasfs.org/event/lasfs-meeting-on-zoom-and-at-the-clubhouse-auction/
LOCATION:LASFS – in-person (and online) meeting\, 8819 Reseda Blvd.\, Northridge\, CA\, 91324\, United States
END:VEVENT
BEGIN:VEVENT
DTSTART;TZID=America/Los_Angeles:20260423T190000
DTEND;TZID=America/Los_Angeles:20260423T220000
DTSTAMP:20260420T010839
CREATED:20260217T221702Z
LAST-MODIFIED:20260219T000204Z
UID:7219-1776970800-1776981600@lasfs.org
SUMMARY:LASFS Meeting on Zoom and at the Clubhouse
DESCRIPTION:Kristen Renee Gorlitz presents Root. \nClubhouse opens at 7:00 pm. Meeting starts at 8:00 pm. \nParking is available on the street\, and the parking lot behind the stores one short block North of us; stores like Kingdom Sewing & Vacuum and The Dog Haus. There is a ramp in the back of our building facing the alley.
URL:https://lasfs.org/event/lasfs-meeting-on-zoom-and-at-the-clubhouse-5/
LOCATION:LASFS – in-person (and online) meeting\, 8819 Reseda Blvd.\, Northridge\, CA\, 91324\, United States
END:VEVENT
BEGIN:VEVENT
DTSTART;TZID=America/Los_Angeles:20260430T190000
DTEND;TZID=America/Los_Angeles:20260430T220000
DTSTAMP:20260420T010839
CREATED:20260217T221733Z
LAST-MODIFIED:20260219T000154Z
UID:7221-1777575600-1777586400@lasfs.org
SUMMARY:LASFS Meeting on Zoom and at the Clubhouse
DESCRIPTION:Clubhouse opens at 7:00 pm. Meeting starts at 8:00 pm. \nParking is available on the street\, and the parking lot behind the stores one short block North of us; stores like Kingdom Sewing & Vacuum and The Dog Haus. There is a ramp in the back of our building facing the alley.
URL:https://lasfs.org/event/lasfs-meeting-on-zoom-and-at-the-clubhouse-6/
LOCATION:LASFS – in-person (and online) meeting\, 8819 Reseda Blvd.\, Northridge\, CA\, 91324\, United States
END:VEVENT
BEGIN:VEVENT
DTSTART;TZID=America/Los_Angeles:20260507T190000
DTEND;TZID=America/Los_Angeles:20260507T220000
DTSTAMP:20260420T010839
CREATED:20260217T222042Z
LAST-MODIFIED:20260219T000146Z
UID:7227-1778180400-1778191200@lasfs.org
SUMMARY:LASFS Meeting on Zoom and at the Clubhouse
DESCRIPTION:Clubhouse opens at 7:00 pm. Meeting starts at 8:00 pm. \nParking is available on the street\, and the parking lot behind the stores one short block North of us; stores like Kingdom Sewing & Vacuum and The Dog Haus. There is a ramp in the back of our building facing the alley.
URL:https://lasfs.org/event/lasfs-meeting-on-zoom-and-at-the-clubhouse-7/
LOCATION:LASFS – in-person (and online) meeting\, 8819 Reseda Blvd.\, Northridge\, CA\, 91324\, United States
END:VEVENT
BEGIN:VEVENT
DTSTART;TZID=America/Los_Angeles:20260510T110000
DTEND;TZID=America/Los_Angeles:20260510T120000
DTSTAMP:20260420T010839
CREATED:20260217T223251Z
LAST-MODIFIED:20260219T000138Z
UID:7235-1778410800-1778414400@lasfs.org
SUMMARY:LASFS Zoom/In Person Board Meeting
DESCRIPTION:Parking is available on the street\, and the parking lot behind the stores one short block North of us; stores like Kingdom Sewing & Vacuum and The Dog Haus. There is a ramp in the back of our building facing the alley.
URL:https://lasfs.org/event/lasfs-zoom-in-person-board-meeting-2/
LOCATION:LASFS – in-person (and online) meeting\, 8819 Reseda Blvd.\, Northridge\, CA\, 91324\, United States
END:VEVENT
BEGIN:VEVENT
DTSTART;TZID=America/Los_Angeles:20260510T123000
DTEND;TZID=America/Los_Angeles:20260510T235900
DTSTAMP:20260420T010839
CREATED:20260404T033905Z
LAST-MODIFIED:20260404T051045Z
UID:7407-1778416200-1778457540@lasfs.org
SUMMARY:Second Sunday Open House/Gaming
DESCRIPTION:Parking is available on the street\, and the parking lot behind the stores one short block North of us; stores like Kingdom Sewing & Vacuum and The Dog Haus. There is a ramp in the back of our building facing the alley.
URL:https://lasfs.org/event/second-sunday-open-house-gaming-2/
LOCATION:LASFS Clubhouse\, 8819 Reseda Blvd.\, Northridge\, CA\, 91324\, United States
END:VEVENT
BEGIN:VEVENT
DTSTART;TZID=America/Los_Angeles:20260514T190000
DTEND;TZID=America/Los_Angeles:20260514T220000
DTSTAMP:20260420T010839
CREATED:20260217T222223Z
LAST-MODIFIED:20260219T000129Z
UID:7231-1778785200-1778796000@lasfs.org
SUMMARY:LASFS Meeting on Zoom and at the Clubhouse - Auction
DESCRIPTION:Auction. \nClubhouse opens at 7:00 pm. Meeting starts at 8:00 pm. \nParking is available on the street\, and the parking lot behind the stores one short block North of us; stores like Kingdom Sewing & Vacuum and The Dog Haus. There is a ramp in the back of our building facing the alley.
URL:https://lasfs.org/event/lasfs-meeting-on-zoom-and-at-the-clubhouse-auction-2/
LOCATION:LASFS – in-person (and online) meeting\, 8819 Reseda Blvd.\, Northridge\, CA\, 91324\, United States
END:VEVENT
BEGIN:VEVENT
DTSTART;TZID=America/Los_Angeles:20260521T190000
DTEND;TZID=America/Los_Angeles:20260521T220000
DTSTAMP:20260420T010839
CREATED:20260217T222100Z
LAST-MODIFIED:20260219T000120Z
UID:7226-1779390000-1779400800@lasfs.org
SUMMARY:LASFS Meeting on Zoom and at the Clubhouse
DESCRIPTION:Clubhouse opens at 7:00 pm. Meeting starts at 8:00 pm. \nParking is available on the street\, and the parking lot behind the stores one short block North of us; stores like Kingdom Sewing & Vacuum and The Dog Haus. There is a ramp in the back of our building facing the alley.
URL:https://lasfs.org/event/lasfs-meeting-on-zoom-and-at-the-clubhouse-8/
LOCATION:LASFS – in-person (and online) meeting\, 8819 Reseda Blvd.\, Northridge\, CA\, 91324\, United States
END:VEVENT
BEGIN:VEVENT
DTSTART;TZID=America/Los_Angeles:20260528T190000
DTEND;TZID=America/Los_Angeles:20260528T220000
DTSTAMP:20260420T010839
CREATED:20260217T222123Z
LAST-MODIFIED:20260219T000112Z
UID:7225-1779994800-1780005600@lasfs.org
SUMMARY:LASFS Meeting on Zoom and at the Clubhouse
DESCRIPTION:Clubhouse opens at 7:00 pm. Meeting starts at 8:00 pm. \nParking is available on the street\, and the parking lot behind the stores one short block North of us; stores like Kingdom Sewing & Vacuum and The Dog Haus. There is a ramp in the back of our building facing the alley.
URL:https://lasfs.org/event/lasfs-meeting-on-zoom-and-at-the-clubhouse-9/
LOCATION:LASFS – in-person (and online) meeting\, 8819 Reseda Blvd.\, Northridge\, CA\, 91324\, United States
END:VEVENT
BEGIN:VEVENT
DTSTART;TZID=America/Los_Angeles:20260604T190000
DTEND;TZID=America/Los_Angeles:20260604T220000
DTSTAMP:20260420T010839
CREATED:20260217T223401Z
LAST-MODIFIED:20260219T000016Z
UID:7237-1780599600-1780610400@lasfs.org
SUMMARY:LASFS Meeting on Zoom and at the Clubhouse - President Nominations
DESCRIPTION:President Nominations. \nClubhouse opens at 7:00 pm. Meeting starts at 8:00 pm. \nParking is available on the street\, and the parking lot behind the stores one short block North of us; stores like Kingdom Sewing & Vacuum and The Dog Haus. There is a ramp in the back of our building facing the alley.
URL:https://lasfs.org/event/lasfs-meeting-on-zoom-and-at-the-clubhouse-president-nominations/
LOCATION:LASFS – in-person (and online) meeting\, 8819 Reseda Blvd.\, Northridge\, CA\, 91324\, United States
END:VEVENT
BEGIN:VEVENT
DTSTART;TZID=America/Los_Angeles:20260611T190000
DTEND;TZID=America/Los_Angeles:20260611T220000
DTSTAMP:20260420T010839
CREATED:20260217T223441Z
LAST-MODIFIED:20260219T000003Z
UID:7239-1781204400-1781215200@lasfs.org
SUMMARY:LASFS Meeting on Zoom and at the Clubhouse - Procedural Elections
DESCRIPTION:Procedural Elections. \nClubhouse opens at 7:00 pm. Meeting starts at 8:00 pm. \nParking is available on the street\, and the parking lot behind the stores one short block North of us; stores like Kingdom Sewing & Vacuum and The Dog Haus. There is a ramp in the back of our building facing the alley.
URL:https://lasfs.org/event/lasfs-meeting-on-zoom-and-at-the-clubhouse-procedural-elections/
LOCATION:LASFS – in-person (and online) meeting\, 8819 Reseda Blvd.\, Northridge\, CA\, 91324\, United States
END:VEVENT
BEGIN:VEVENT
DTSTART;TZID=America/Los_Angeles:20260614T110000
DTEND;TZID=America/Los_Angeles:20260614T120000
DTSTAMP:20260420T010839
CREATED:20260217T223006Z
LAST-MODIFIED:20260218T235952Z
UID:7233-1781434800-1781438400@lasfs.org
SUMMARY:LASFS Zoom/In Person Board Meeting
DESCRIPTION:Parking is available on the street\, and the parking lot behind the stores one short block North of us; stores like Kingdom Sewing & Vacuum and The Dog Haus. There is a ramp in the back of our building facing the alley.
URL:https://lasfs.org/event/lasfs-zoom-in-person-board-meeting/
LOCATION:LASFS – in-person (and online) meeting\, 8819 Reseda Blvd.\, Northridge\, CA\, 91324\, United States
END:VEVENT
BEGIN:VEVENT
DTSTART;TZID=America/Los_Angeles:20260614T123000
DTEND;TZID=America/Los_Angeles:20260614T235900
DTSTAMP:20260420T010839
CREATED:20260404T051203Z
LAST-MODIFIED:20260404T051203Z
UID:7413-1781440200-1781481540@lasfs.org
SUMMARY:Second Sunday Open House/Gaming
DESCRIPTION:Parking is available on the street\, and the parking lot behind the stores one short block North of us; stores like Kingdom Sewing & Vacuum and The Dog Haus. There is a ramp in the back of our building facing the alley.
URL:https://lasfs.org/event/second-sunday-open-house-gaming-3/
LOCATION:LASFS Clubhouse\, 8819 Reseda Blvd.\, Northridge\, CA\, 91324\, United States
END:VEVENT
BEGIN:VEVENT
DTSTART;TZID=America/Los_Angeles:20260618T190000
DTEND;TZID=America/Los_Angeles:20260618T220000
DTSTAMP:20260420T010839
CREATED:20260217T223532Z
LAST-MODIFIED:20260218T235944Z
UID:7241-1781809200-1781820000@lasfs.org
SUMMARY:LASFS Meeting on Zoom and at the Clubhouse - Auction
DESCRIPTION:Auction. \nClubhouse opens at 7:00 pm. Meeting starts at 8:00 pm. \nParking is available on the street\, and the parking lot behind the stores one short block North of us; stores like Kingdom Sewing & Vacuum and The Dog Haus. There is a ramp in the back of our building facing the alley.
URL:https://lasfs.org/event/lasfs-meeting-on-zoom-and-at-the-clubhouse-auction-3/
LOCATION:LASFS – in-person (and online) meeting\, 8819 Reseda Blvd.\, Northridge\, CA\, 91324\, United States
END:VEVENT
BEGIN:VEVENT
DTSTART;TZID=America/Los_Angeles:20260625T190000
DTEND;TZID=America/Los_Angeles:20260625T220000
DTSTAMP:20260420T010839
CREATED:20260217T223710Z
LAST-MODIFIED:20260218T235933Z
UID:7246-1782414000-1782424800@lasfs.org
SUMMARY:LASFS Meeting on Zoom and at the Clubhouse
DESCRIPTION:Clubhouse opens at 7:00 pm. Meeting starts at 8:00 pm. \nParking is available on the street\, and the parking lot behind the stores one short block North of us; stores like Kingdom Sewing & Vacuum and The Dog Haus. There is a ramp in the back of our building facing the alley.
URL:https://lasfs.org/event/lasfs-meeting-on-zoom-and-at-the-clubhouse-10/
LOCATION:LASFS – in-person (and online) meeting\, 8819 Reseda Blvd.\, Northridge\, CA\, 91324\, United States
END:VEVENT
END:VCALENDAR