BEGIN:VCALENDAR
VERSION:2.0
PRODID:-// - ECPv6.15.16//NONSGML v1.0//EN
CALSCALE:GREGORIAN
METHOD:PUBLISH
X-ORIGINAL-URL:https://lasfs.org
X-WR-CALDESC:Events for 
REFRESH-INTERVAL;VALUE=DURATION:PT1H
X-Robots-Tag:noindex
X-PUBLISHED-TTL:PT1H
BEGIN:VTIMEZONE
TZID:America/Los_Angeles
BEGIN:DAYLIGHT
TZOFFSETFROM:-0800
TZOFFSETTO:-0700
TZNAME:PDT
DTSTART:20240310T100000
END:DAYLIGHT
BEGIN:STANDARD
TZOFFSETFROM:-0700
TZOFFSETTO:-0800
TZNAME:PST
DTSTART:20241103T090000
END:STANDARD
BEGIN:DAYLIGHT
TZOFFSETFROM:-0800
TZOFFSETTO:-0700
TZNAME:PDT
DTSTART:20250309T100000
END:DAYLIGHT
BEGIN:STANDARD
TZOFFSETFROM:-0700
TZOFFSETTO:-0800
TZNAME:PST
DTSTART:20251102T090000
END:STANDARD
BEGIN:DAYLIGHT
TZOFFSETFROM:-0800
TZOFFSETTO:-0700
TZNAME:PDT
DTSTART:20260308T100000
END:DAYLIGHT
BEGIN:STANDARD
TZOFFSETFROM:-0700
TZOFFSETTO:-0800
TZNAME:PST
DTSTART:20261101T090000
END:STANDARD
END:VTIMEZONE
BEGIN:VEVENT
DTSTART;TZID=America/Los_Angeles:20251106T200000
DTEND;TZID=America/Los_Angeles:20251106T220000
DTSTAMP:20260420T035055
CREATED:20250622T013420Z
LAST-MODIFIED:20251101T210326Z
UID:6819-1762459200-1762466400@lasfs.org
SUMMARY:LASFS Meeting - Board Nominations
DESCRIPTION:
URL:https://lasfs.org/event/lasfs-meeting-board-nominations/
LOCATION:on Zoom
END:VEVENT
BEGIN:VEVENT
DTSTART;TZID=America/Los_Angeles:20251113T200000
DTEND;TZID=America/Los_Angeles:20251113T220000
DTSTAMP:20260420T035055
CREATED:20250622T013508Z
LAST-MODIFIED:20250622T013508Z
UID:6821-1763064000-1763071200@lasfs.org
SUMMARY:Hybrid Meeting Denny’s and on Zoom / Board Elections
DESCRIPTION:
URL:https://lasfs.org/event/hybrid-meeting-dennys-and-on-zoom-board-elections/
LOCATION:Dennys\, 5525 N. Sepulveda Blvd.\, Sherman Oaks\, CA\, 91411\, United States
END:VEVENT
BEGIN:VEVENT
DTSTART;TZID=America/Los_Angeles:20251120T200000
DTEND;TZID=America/Los_Angeles:20251120T220000
DTSTAMP:20260420T035055
CREATED:20250622T013538Z
LAST-MODIFIED:20250622T013538Z
UID:6823-1763668800-1763676000@lasfs.org
SUMMARY:LASFS Meeting
DESCRIPTION:
URL:https://lasfs.org/event/lasfs-meeting-27/
LOCATION:on Zoom
END:VEVENT
BEGIN:VEVENT
DTSTART;TZID=America/Los_Angeles:20251127T200000
DTEND;TZID=America/Los_Angeles:20251127T220000
DTSTAMP:20260420T035055
CREATED:20250622T013654Z
LAST-MODIFIED:20250622T013654Z
UID:6825-1764273600-1764280800@lasfs.org
SUMMARY:LASFS Meeting – Loscon
DESCRIPTION:
URL:https://lasfs.org/event/lasfs-meeting-loscon/
LOCATION:on Zoom
END:VEVENT
END:VCALENDAR